BEGIN:VCALENDAR
VERSION:2.0
PRODID:-//MFG MARIASTEIN - ECPv6.3.3.1//NONSGML v1.0//EN
CALSCALE:GREGORIAN
METHOD:PUBLISH
X-ORIGINAL-URL:https://www.mfg-mariastein.at
X-WR-CALDESC:Veranstaltungen für MFG MARIASTEIN
REFRESH-INTERVAL;VALUE=DURATION:PT1H
X-Robots-Tag:noindex
X-PUBLISHED-TTL:PT1H
BEGIN:VTIMEZONE
TZID:Europe/Vienna
BEGIN:DAYLIGHT
TZOFFSETFROM:+0100
TZOFFSETTO:+0200
TZNAME:CEST
DTSTART:20240331T010000
END:DAYLIGHT
BEGIN:STANDARD
TZOFFSETFROM:+0200
TZOFFSETTO:+0100
TZNAME:CET
DTSTART:20241027T010000
END:STANDARD
END:VTIMEZONE
BEGIN:VEVENT
DTSTART;TZID=Europe/Vienna:20240412T190000
DTEND;TZID=Europe/Vienna:20240412T190000
DTSTAMP:20260420T193841
CREATED:20240301T095319Z
LAST-MODIFIED:20240301T102915Z
UID:303-1712948400-1712948400@www.mfg-mariastein.at
SUMMARY:5G - Fluch oder Segen?
DESCRIPTION:Wir möchten Euch ganz herzlich zu unserem neuen Vortrag einladen. 5G – Fluch oder Segen? \nGottfried Pausch (Oberst im Ruhestand) erklärt die Bedeutung/Auswirkungen des neuen Mobilfunknetzes 5G. \nWir freuen uns auf Euer Kommen und einen informativen\, gemeinsamen Abend. \nDa es nur eine begrenzte Anzahl an Plätzen gibt\, bitten wir um vorherige Anmeldung unter info@mfg-mariastein.at
URL:https://www.mfg-mariastein.at/event/5g-fluch-oder-segen/
LOCATION:Hotel Mariasteinerhof
ATTACH;FMTTYPE=image/jpeg:https://www.mfg-mariastein.at/wp-content/uploads/2024/03/MFG-Mariastein_Vortrag_5G_Mariasteinerhof-12042024.jpg
END:VEVENT
END:VCALENDAR